BEGIN:VCALENDAR
VERSION:2.0
PRODID:-//jEvents 2.0 for Joomla//EN
CALSCALE:GREGORIAN
METHOD:PUBLISH
BEGIN:VTIMEZONE
TZID:Europe/Berlin
BEGIN:STANDARD
DTSTART:20251215T190000
RDATE:20260329T030000
TZOFFSETFROM:+0200
TZOFFSETTO:+0100
TZNAME:Europe/Berlin CET
END:STANDARD
END:VTIMEZONE
BEGIN:VEVENT
UID:07a36bc1d4c1a35d5da344c931ef489a
CATEGORIES:Aikido
CREATED:20140103T200000
SUMMARY:Gesundheitstraining Mi.
LOCATION:JR THK = Judoraum Turnhalle Kirschenallee
DESCRIPTION:<p>Gesundheitssport</p><p>Erwachsene</p>
DTSTAMP:20260421T041552
DTSTART;TZID=Europe/Berlin:20261216T190000
DTEND;TZID=Europe/Berlin:20261216T200000
SEQUENCE:0
TRANSP:OPAQUE
END:VEVENT
END:VCALENDAR