BEGIN:VCALENDAR
VERSION:2.0
PRODID:-//jEvents 2.0 for Joomla//EN
CALSCALE:GREGORIAN
METHOD:PUBLISH
BEGIN:VTIMEZONE
TZID:Europe/Berlin
BEGIN:STANDARD
DTSTART:20251201T170000
RDATE:20260329T030000
TZOFFSETFROM:+0200
TZOFFSETTO:+0100
TZNAME:Europe/Berlin CET
END:STANDARD
END:VTIMEZONE
BEGIN:VEVENT
UID:d7357bff95c209396a0836d0a626fbae
CATEGORIES:Judo
CREATED:20140103T210405
SUMMARY:Judo Mi. Schüler 5 bis 10 Jahre
LOCATION:TH GSG = Turnhalle Geschwister-Scholl-Gesamtschule
DESCRIPTION:<p>Judo Mi. Schüler 5 bis 10 Jahre</p>
DTSTAMP:20260421T011548
DTSTART;TZID=Europe/Berlin:20261202T170000
DTEND;TZID=Europe/Berlin:20261202T181500
SEQUENCE:0
TRANSP:OPAQUE
END:VEVENT
END:VCALENDAR