BEGIN:VCALENDAR
VERSION:2.0
PRODID:-//jEvents 2.0 for Joomla//EN
CALSCALE:GREGORIAN
METHOD:PUBLISH
BEGIN:VTIMEZONE
TZID:Europe/Berlin
BEGIN:STANDARD
DTSTART:20251220T180000
RDATE:20260329T030000
TZOFFSETFROM:+0200
TZOFFSETTO:+0100
TZNAME:Europe/Berlin CET
END:STANDARD
END:VTIMEZONE
BEGIN:VEVENT
UID:a72d8fd631865a6230d7fa14630d7dc6
CATEGORIES:Gewichtheben
CREATED:20140103T204723
SUMMARY:Gewichtheben Mo. (ab 14J.)
LOCATION:GHR THK = Gewichtheberraum Turnhalle Kirschenallee
DESCRIPTION:<p><span style="font-size: 10pt;">Anfänger und Fortgeschrittene</span></p><
 p><span style="font-size: 10pt;">ab 14 Jahre</span></p>
DTSTAMP:20260421T023514
DTSTART;TZID=Europe/Berlin:20261221T180000
DTEND;TZID=Europe/Berlin:20261221T210000
SEQUENCE:0
TRANSP:OPAQUE
END:VEVENT
END:VCALENDAR