BEGIN:VCALENDAR
VERSION:2.0
PRODID:-//jEvents 2.0 for Joomla//EN
CALSCALE:GREGORIAN
METHOD:PUBLISH
BEGIN:VTIMEZONE
TZID:Europe/Berlin
BEGIN:STANDARD
DTSTART:20251202T173000
RDATE:20260329T030000
TZOFFSETFROM:+0200
TZOFFSETTO:+0100
TZNAME:Europe/Berlin CET
END:STANDARD
END:VTIMEZONE
BEGIN:VEVENT
UID:537571f961f99da5d82acd29f9ae01bc
CATEGORIES:Aikido
CREATED:20140103T200303
SUMMARY:Aikido Do. (ab 10 bis 14 J.)
LOCATION:JR THK = Judoraum Turnhalle Kirschenallee
DESCRIPTION:<p>Anfänger und Fortgeschritte</p><p>Ab 10 bis 14 Jahre</p>
DTSTAMP:20260420T233259
DTSTART;TZID=Europe/Berlin:20261203T173000
DTEND;TZID=Europe/Berlin:20261203T184500
SEQUENCE:0
TRANSP:OPAQUE
END:VEVENT
END:VCALENDAR